BEGIN:VCALENDAR
VERSION:2.0
PRODID:-//BGC East Scarborough - ECPv6.15.12.2//NONSGML v1.0//EN
CALSCALE:GREGORIAN
METHOD:PUBLISH
X-WR-CALNAME:BGC East Scarborough
X-ORIGINAL-URL:https://esbgc.ca
X-WR-CALDESC:Events for BGC East Scarborough
REFRESH-INTERVAL;VALUE=DURATION:PT1H
X-Robots-Tag:noindex
X-PUBLISHED-TTL:PT1H
BEGIN:VTIMEZONE
TZID:America/Toronto
BEGIN:DAYLIGHT
TZOFFSETFROM:-0500
TZOFFSETTO:-0400
TZNAME:EDT
DTSTART:20250309T070000
END:DAYLIGHT
BEGIN:STANDARD
TZOFFSETFROM:-0400
TZOFFSETTO:-0500
TZNAME:EST
DTSTART:20251102T060000
END:STANDARD
BEGIN:DAYLIGHT
TZOFFSETFROM:-0500
TZOFFSETTO:-0400
TZNAME:EDT
DTSTART:20260308T070000
END:DAYLIGHT
BEGIN:STANDARD
TZOFFSETFROM:-0400
TZOFFSETTO:-0500
TZNAME:EST
DTSTART:20261101T060000
END:STANDARD
BEGIN:DAYLIGHT
TZOFFSETFROM:-0500
TZOFFSETTO:-0400
TZNAME:EDT
DTSTART:20270314T070000
END:DAYLIGHT
BEGIN:STANDARD
TZOFFSETFROM:-0400
TZOFFSETTO:-0500
TZNAME:EST
DTSTART:20271107T060000
END:STANDARD
END:VTIMEZONE
BEGIN:VEVENT
DTSTART;TZID=America/Toronto:20260604T180000
DTEND;TZID=America/Toronto:20260604T203000
DTSTAMP:20260424T114041
CREATED:20260422T142507Z
LAST-MODIFIED:20260423T190125Z
UID:18177-1780596000-1780605000@esbgc.ca
SUMMARY:BGC East Scarborough - Annual General Meeting
DESCRIPTION:
URL:https://esbgc.ca/event/bgc-east-scarborough-annual-general-meeting/
LOCATION:MA’AT Youth Innovation & Cultural Centre\, 62 Orchard Park Dr\, Scarborough\, Ontario\, M1E 3T7\, Canada
CATEGORIES:Events,Featured
ATTACH;FMTTYPE=image/png:https://esbgc.ca/wp-content/uploads/2026/04/AGM_POST_1-1-1.png
END:VEVENT
END:VCALENDAR